BEGIN:VCALENDAR
PRODID:-//github.com/rianjs/ical.net//NONSGML ical.net 4.0//EN
VERSION:2.0
BEGIN:VTIMEZONE
TZID:Eastern Standard Time
X-LIC-LOCATION:America/New_York
BEGIN:STANDARD
DTSTART:20241103T020000
RRULE:FREQ=YEARLY;BYDAY=1SU;BYMONTH=11
TZNAME:EST
TZOFFSETFROM:-0400
TZOFFSETTO:-0500
END:STANDARD
BEGIN:DAYLIGHT
DTSTART:20250309T020000
RRULE:FREQ=YEARLY;BYDAY=2SU;BYMONTH=3
TZNAME:EDT
TZOFFSETFROM:-0500
TZOFFSETTO:-0400
END:DAYLIGHT
END:VTIMEZONE
BEGIN:VEVENT
DESCRIPTION:2023 Annual Meeting by the American Academy of Neurology\n\nTi
 tle: Johns Hopkins Department of Neurology Reunion (Non-AAN Sponsored Eve
 nt)\n\nDescription: A reunion for former and current faculty and trainees
  of the Johns Hopkins Department of Neurology.\n\nLearn More About This E
 vent: https://www.aan.com/msa/Public/Events/Details/15796
DTEND;TZID=Eastern Standard Time:20230425T200000
DTSTAMP:20260424T070431Z
DTSTART;TZID=Eastern Standard Time:20230425T180000
LOCATION:https://www.aan.com/msa/Public/Events/GetEventURL/15796
SEQUENCE:0
SUMMARY:AAN: Johns Hopkins Department of Neurology Reunion (Non-AAN Sponso
 red Event)
UID:0fb92006-1c68-4735-ae68-e22605f7c1c1
END:VEVENT
END:VCALENDAR
