BEGIN:VCALENDAR
PRODID:-//github.com/rianjs/ical.net//NONSGML ical.net 4.0//EN
VERSION:2.0
BEGIN:VTIMEZONE
TZID:Eastern Standard Time
X-LIC-LOCATION:America/New_York
BEGIN:STANDARD
DTSTART:20241103T020000
RRULE:FREQ=YEARLY;BYDAY=1SU;BYMONTH=11
TZNAME:EST
TZOFFSETFROM:-0400
TZOFFSETTO:-0500
END:STANDARD
BEGIN:DAYLIGHT
DTSTART:20250309T020000
RRULE:FREQ=YEARLY;BYDAY=2SU;BYMONTH=3
TZNAME:EDT
TZOFFSETFROM:-0500
TZOFFSETTO:-0400
END:DAYLIGHT
END:VTIMEZONE
BEGIN:VEVENT
DESCRIPTION:2023 Annual Meeting by the American Academy of Neurology\n\nTi
 tle: AINA Annual Meeting & Dinner (Non-AAN Sponsored Event)\n\nDescriptio
 n: The AINA Annual Meeting and Dinner will include dinner and a program. 
  The program will consist of a speaker\, update on AINA activities and th
 e AINA Annual Meeting. All are welcome but registration is required. Open
  to AINA Members\, Neurologists of Indian Origin and those with interest 
 in AINA and AINA activities. \n\nLearn More About This Event: https://www
 .aan.com/msa/Public/Events/Details/15797
DTEND;TZID=Eastern Standard Time:20230424T220000
DTSTAMP:20260424T070523Z
DTSTART;TZID=Eastern Standard Time:20230424T180000
LOCATION:https://www.aan.com/msa/Public/Events/GetEventURL/15797
SEQUENCE:0
SUMMARY:AAN: AINA Annual Meeting & Dinner (Non-AAN Sponsored Event)
UID:2c37a15b-0e42-4a9e-8465-d7036aa64cc3
END:VEVENT
END:VCALENDAR
