BEGIN:VCALENDAR
PRODID:-//github.com/rianjs/ical.net//NONSGML ical.net 4.0//EN
VERSION:2.0
BEGIN:VTIMEZONE
TZID:Eastern Standard Time
X-LIC-LOCATION:America/New_York
BEGIN:STANDARD
DTSTART:20241103T020000
RRULE:FREQ=YEARLY;BYDAY=1SU;BYMONTH=11
TZNAME:EST
TZOFFSETFROM:-0400
TZOFFSETTO:-0500
END:STANDARD
BEGIN:DAYLIGHT
DTSTART:20250309T020000
RRULE:FREQ=YEARLY;BYDAY=2SU;BYMONTH=3
TZNAME:EDT
TZOFFSETFROM:-0500
TZOFFSETTO:-0400
END:DAYLIGHT
END:VTIMEZONE
BEGIN:VEVENT
DESCRIPTION:2023 Annual Meeting by the American Academy of Neurology\n\nTi
 tle: ASENT Leadership Alumni and Friends Reception (Non-AAN Sponsored Eve
 nt)\n\nDescription: Reception for members of ASENT Board\, Past leadershi
 p and colleagues to connect in person while gathered at AAN.\n\nLearn Mor
 e About This Event: https://www.aan.com/msa/Public/Events/Details/15807
DTEND;TZID=Eastern Standard Time:20230425T210000
DTSTAMP:20260424T053423Z
DTSTART;TZID=Eastern Standard Time:20230425T190000
LOCATION:https://www.aan.com/msa/Public/Events/GetEventURL/15807
SEQUENCE:0
SUMMARY:AAN: ASENT Leadership Alumni and Friends Reception (Non-AAN Sponso
 red Event)
UID:b38b305f-d3c0-4e80-9ac4-8e4a604089b4
END:VEVENT
END:VCALENDAR
