BEGIN:VCALENDAR
PRODID:-//github.com/rianjs/ical.net//NONSGML ical.net 4.0//EN
VERSION:2.0
BEGIN:VTIMEZONE
TZID:Eastern Standard Time
X-LIC-LOCATION:America/New_York
BEGIN:STANDARD
DTSTART:20241103T020000
RRULE:FREQ=YEARLY;BYDAY=1SU;BYMONTH=11
TZNAME:EST
TZOFFSETFROM:-0400
TZOFFSETTO:-0500
END:STANDARD
BEGIN:DAYLIGHT
DTSTART:20250309T020000
RRULE:FREQ=YEARLY;BYDAY=2SU;BYMONTH=3
TZNAME:EDT
TZOFFSETFROM:-0500
TZOFFSETTO:-0400
END:DAYLIGHT
END:VTIMEZONE
BEGIN:VEVENT
DESCRIPTION:2023 Annual Meeting by the American Academy of Neurology\n\nTi
 tle: PSG Futures in Clinical Research Mentorship Event (Non-AAN Sponsored
  Event)\n\nDescription: Enjoy an informal evening networking reception wi
 th mentors from the Parkinson Study Group (PSG) for small group discussio
 ns about building a career in movement disorders and clinical research. L
 earn about the PSG network and funding opportunities\, and discuss your r
 esearch interests. Students\, residents\, fellows and early career clinic
 ian-investigators are welcome to attend. Space is limited\, so please RSV
 P to Donna Moszkowicz (donna.moszkowicz@chet.rochester.edu). The receptio
 n will feature passed hors devours and an open bar featuring beer\, wine\
 , & soft drinks.\n\nLearn More About This Event: https://www.aan.com/msa/
 Public/Events/Details/15816
DTEND;TZID=Eastern Standard Time:20230424T203000
DTSTAMP:20260424T053351Z
DTSTART;TZID=Eastern Standard Time:20230424T183000
LOCATION:https://www.aan.com/msa/Public/Events/GetEventURL/15816
SEQUENCE:0
SUMMARY:AAN: PSG Futures in Clinical Research Mentorship Event (Non-AAN Sp
 onsored Event)
UID:8daf7e37-e460-44c6-8d95-fdbcec982d26
END:VEVENT
END:VCALENDAR
