BEGIN:VCALENDAR
PRODID:-//github.com/rianjs/ical.net//NONSGML ical.net 4.0//EN
VERSION:2.0
BEGIN:VTIMEZONE
TZID:Eastern Standard Time
X-LIC-LOCATION:America/New_York
BEGIN:STANDARD
DTSTART:20241103T020000
RRULE:FREQ=YEARLY;BYDAY=1SU;BYMONTH=11
TZNAME:EST
TZOFFSETFROM:-0400
TZOFFSETTO:-0500
END:STANDARD
BEGIN:DAYLIGHT
DTSTART:20250309T020000
RRULE:FREQ=YEARLY;BYDAY=2SU;BYMONTH=3
TZNAME:EDT
TZOFFSETFROM:-0500
TZOFFSETTO:-0400
END:DAYLIGHT
END:VTIMEZONE
BEGIN:VEVENT
DESCRIPTION:2023 Annual Meeting by the American Academy of Neurology\n\nTi
 tle: Standing on the Shoulders of Giants (HeadTalks)\n\nAccess URL: https
 ://www.aan.com/msa/Public/Events/GetEventURL/15818\n\nLearn More About Th
 is Event: https://www.aan.com/msa/Public/Events/Details/15818
DTEND;TZID=Eastern Standard Time:20230424T114500
DTSTAMP:20260424T053301Z
DTSTART;TZID=Eastern Standard Time:20230424T110000
LOCATION:https://www.aan.com/msa/Public/Events/GetEventURL/15818
SEQUENCE:0
SUMMARY:AAN: Standing on the Shoulders of Giants (HeadTalks)
UID:40315447-724b-4b22-9924-392b1f7c56f1
END:VEVENT
END:VCALENDAR
