BEGIN:VCALENDAR
PRODID:-//github.com/rianjs/ical.net//NONSGML ical.net 4.0//EN
VERSION:2.0
BEGIN:VTIMEZONE
TZID:Eastern Standard Time
X-LIC-LOCATION:America/New_York
BEGIN:STANDARD
DTSTART:20241103T020000
RRULE:FREQ=YEARLY;BYDAY=1SU;BYMONTH=11
TZNAME:EST
TZOFFSETFROM:-0400
TZOFFSETTO:-0500
END:STANDARD
BEGIN:DAYLIGHT
DTSTART:20250309T020000
RRULE:FREQ=YEARLY;BYDAY=2SU;BYMONTH=3
TZNAME:EDT
TZOFFSETFROM:-0500
TZOFFSETTO:-0400
END:DAYLIGHT
END:VTIMEZONE
BEGIN:VEVENT
DESCRIPTION:2023 Annual Meeting by the American Academy of Neurology\n\nTi
 tle: Alzheimer's Network for Diagnostics and Therapy (ALZ-NET): Using Rea
 l World Evidence to Define the Future of Alzheimer's Treatment and Care (
 Research Hub)\n\nAccess URL: https://www.aan.com/msa/Public/Events/GetEve
 ntURL/15821\n\nLearn More About This Event: https://www.aan.com/msa/Publi
 c/Events/Details/15821
DTEND;TZID=Eastern Standard Time:20230425T134500
DTSTAMP:20260424T053203Z
DTSTART;TZID=Eastern Standard Time:20230425T130000
LOCATION:https://www.aan.com/msa/Public/Events/GetEventURL/15821
SEQUENCE:0
SUMMARY:AAN: Alzheimer's Network for Diagnostics and Therapy (ALZ-NET): Us
 ing Real World Evidence to Define the Future of Alzheimer's Treatment and
  Care (Research Hub)
UID:4adb68ad-da69-4c56-973c-a4d23d564657
END:VEVENT
END:VCALENDAR
