BEGIN:VCALENDAR
PRODID:-//github.com/rianjs/ical.net//NONSGML ical.net 4.0//EN
VERSION:2.0
BEGIN:VTIMEZONE
TZID:Eastern Standard Time
X-LIC-LOCATION:America/New_York
BEGIN:STANDARD
DTSTART:20241103T020000
RRULE:FREQ=YEARLY;BYDAY=1SU;BYMONTH=11
TZNAME:EST
TZOFFSETFROM:-0400
TZOFFSETTO:-0500
END:STANDARD
BEGIN:DAYLIGHT
DTSTART:20250309T020000
RRULE:FREQ=YEARLY;BYDAY=2SU;BYMONTH=3
TZNAME:EDT
TZOFFSETFROM:-0500
TZOFFSETTO:-0400
END:DAYLIGHT
END:VTIMEZONE
BEGIN:VEVENT
DESCRIPTION:2023 Annual Meeting by the American Academy of Neurology\n\nTi
 tle: Cognition and Call of Duty™: Video Games as a Complex Cognitive Task
  (Innovation Hub)\n\nAccess URL: https://www.aan.com/msa/Public/Events/Ge
 tEventURL/15823\n\nLearn More About This Event: https://www.aan.com/msa/P
 ublic/Events/Details/15823
DTEND;TZID=Eastern Standard Time:20230423T124500
DTSTAMP:20260424T053311Z
DTSTART;TZID=Eastern Standard Time:20230423T121500
LOCATION:https://www.aan.com/msa/Public/Events/GetEventURL/15823
SEQUENCE:0
SUMMARY:AAN: Cognition and Call of Duty™: Video Games as a Complex Cogniti
 ve Task (Innovation Hub)
UID:c2595555-07f3-44e5-bb05-68f076e3b3d9
END:VEVENT
END:VCALENDAR
