BEGIN:VCALENDAR
PRODID:-//github.com/rianjs/ical.net//NONSGML ical.net 4.0//EN
VERSION:2.0
BEGIN:VTIMEZONE
TZID:Eastern Standard Time
X-LIC-LOCATION:America/New_York
BEGIN:STANDARD
DTSTART:20241103T020000
RRULE:FREQ=YEARLY;BYDAY=1SU;BYMONTH=11
TZNAME:EST
TZOFFSETFROM:-0400
TZOFFSETTO:-0500
END:STANDARD
BEGIN:DAYLIGHT
DTSTART:20250309T020000
RRULE:FREQ=YEARLY;BYDAY=2SU;BYMONTH=3
TZNAME:EDT
TZOFFSETFROM:-0500
TZOFFSETTO:-0400
END:DAYLIGHT
END:VTIMEZONE
BEGIN:VEVENT
DESCRIPTION:2023 Annual Meeting by the American Academy of Neurology\n\nTi
 tle: So You Want to Start a New Business/Service—Now What? Creating a Com
 prehensive Business Plan 101 (Innovation Hub)\n\nAccess URL: https://www.
 aan.com/msa/Public/Events/GetEventURL/15825\n\nLearn More About This Even
 t: https://www.aan.com/msa/Public/Events/Details/15825
DTEND;TZID=Eastern Standard Time:20230423T154500
DTSTAMP:20260424T053353Z
DTSTART;TZID=Eastern Standard Time:20230423T151500
LOCATION:https://www.aan.com/msa/Public/Events/GetEventURL/15825
SEQUENCE:0
SUMMARY:AAN: So You Want to Start a New Business/Service—Now What? Creatin
 g a Comprehensive Business Plan 101 (Innovation Hub)
UID:ee78c30e-a18a-407a-a7b4-899d0e54c80c
END:VEVENT
END:VCALENDAR
