BEGIN:VCALENDAR
PRODID:-//github.com/rianjs/ical.net//NONSGML ical.net 4.0//EN
VERSION:2.0
BEGIN:VTIMEZONE
TZID:Eastern Standard Time
X-LIC-LOCATION:America/New_York
BEGIN:STANDARD
DTSTART:20241103T020000
RRULE:FREQ=YEARLY;BYDAY=1SU;BYMONTH=11
TZNAME:EST
TZOFFSETFROM:-0400
TZOFFSETTO:-0500
END:STANDARD
BEGIN:DAYLIGHT
DTSTART:20250309T020000
RRULE:FREQ=YEARLY;BYDAY=2SU;BYMONTH=3
TZNAME:EDT
TZOFFSETFROM:-0500
TZOFFSETTO:-0400
END:DAYLIGHT
END:VTIMEZONE
BEGIN:VEVENT
DESCRIPTION:2023 Annual Meeting by the American Academy of Neurology\n\nTi
 tle: Build Your Own Board Games and Card Games to Teach Neurology (Innova
 tion Hub)\n\nAccess URL: https://www.aan.com/msa/Public/Events/GetEventUR
 L/15826\n\nLearn More About This Event: https://www.aan.com/msa/Public/Ev
 ents/Details/15826
DTEND;TZID=Eastern Standard Time:20230424T120000
DTSTAMP:20260424T053301Z
DTSTART;TZID=Eastern Standard Time:20230424T113000
LOCATION:https://www.aan.com/msa/Public/Events/GetEventURL/15826
SEQUENCE:0
SUMMARY:AAN: Build Your Own Board Games and Card Games to Teach Neurology 
 (Innovation Hub)
UID:cd886111-296b-44be-b037-7eccccac6974
END:VEVENT
END:VCALENDAR
