BEGIN:VCALENDAR
PRODID:-//github.com/rianjs/ical.net//NONSGML ical.net 4.0//EN
VERSION:2.0
BEGIN:VTIMEZONE
TZID:Eastern Standard Time
X-LIC-LOCATION:America/New_York
BEGIN:STANDARD
DTSTART:20241103T020000
RRULE:FREQ=YEARLY;BYDAY=1SU;BYMONTH=11
TZNAME:EST
TZOFFSETFROM:-0400
TZOFFSETTO:-0500
END:STANDARD
BEGIN:DAYLIGHT
DTSTART:20250309T020000
RRULE:FREQ=YEARLY;BYDAY=2SU;BYMONTH=3
TZNAME:EDT
TZOFFSETFROM:-0500
TZOFFSETTO:-0400
END:DAYLIGHT
END:VTIMEZONE
BEGIN:VEVENT
DESCRIPTION:2023 Annual Meeting by the American Academy of Neurology\n\nTi
 tle: Video Games as Tools for Engaging Neural Performance Networks (Innov
 ation Hub)\n\nAccess URL: https://www.aan.com/msa/Public/Events/GetEventU
 RL/15827\n\nLearn More About This Event: https://www.aan.com/msa/Public/E
 vents/Details/15827
DTEND;TZID=Eastern Standard Time:20230424T124500
DTSTAMP:20260424T053352Z
DTSTART;TZID=Eastern Standard Time:20230424T121500
LOCATION:https://www.aan.com/msa/Public/Events/GetEventURL/15827
SEQUENCE:0
SUMMARY:AAN: Video Games as Tools for Engaging Neural Performance Networks
  (Innovation Hub)
UID:aaa414f6-e21b-4b06-baaf-14b649140223
END:VEVENT
END:VCALENDAR
