BEGIN:VCALENDAR
PRODID:-//github.com/rianjs/ical.net//NONSGML ical.net 4.0//EN
VERSION:2.0
BEGIN:VTIMEZONE
TZID:Eastern Standard Time
X-LIC-LOCATION:America/New_York
BEGIN:STANDARD
DTSTART:20241103T020000
RRULE:FREQ=YEARLY;BYDAY=1SU;BYMONTH=11
TZNAME:EST
TZOFFSETFROM:-0400
TZOFFSETTO:-0500
END:STANDARD
BEGIN:DAYLIGHT
DTSTART:20250309T020000
RRULE:FREQ=YEARLY;BYDAY=2SU;BYMONTH=3
TZNAME:EDT
TZOFFSETFROM:-0500
TZOFFSETTO:-0400
END:DAYLIGHT
END:VTIMEZONE
BEGIN:VEVENT
DESCRIPTION:2023 Annual Meeting by the American Academy of Neurology\n\nTi
 tle: Reimagining the Future of Neurology Through Novel Technologies: Leve
 raging 21st Century Tools to Deliver 21st Century Care (Innovation Hub)\n
 \nAccess URL: https://www.aan.com/msa/Public/Events/GetEventURL/15828\n\n
 Learn More About This Event: https://www.aan.com/msa/Public/Events/Detail
 s/15828
DTEND;TZID=Eastern Standard Time:20230424T150000
DTSTAMP:20260424T053300Z
DTSTART;TZID=Eastern Standard Time:20230424T143000
LOCATION:https://www.aan.com/msa/Public/Events/GetEventURL/15828
SEQUENCE:0
SUMMARY:AAN: Reimagining the Future of Neurology Through Novel Technologie
 s: Leveraging 21st Century Tools to Deliver 21st Century Care (Innovation
  Hub)
UID:38ce45b8-eadc-4fae-bf64-3fb46fd23362
END:VEVENT
END:VCALENDAR
