BEGIN:VCALENDAR
PRODID:-//github.com/rianjs/ical.net//NONSGML ical.net 4.0//EN
VERSION:2.0
BEGIN:VTIMEZONE
TZID:Eastern Standard Time
X-LIC-LOCATION:America/New_York
BEGIN:STANDARD
DTSTART:20241103T020000
RRULE:FREQ=YEARLY;BYDAY=1SU;BYMONTH=11
TZNAME:EST
TZOFFSETFROM:-0400
TZOFFSETTO:-0500
END:STANDARD
BEGIN:DAYLIGHT
DTSTART:20250309T020000
RRULE:FREQ=YEARLY;BYDAY=2SU;BYMONTH=3
TZNAME:EDT
TZOFFSETFROM:-0500
TZOFFSETTO:-0400
END:DAYLIGHT
END:VTIMEZONE
BEGIN:VEVENT
DESCRIPTION:2023 Annual Meeting by the American Academy of Neurology\n\nTi
 tle: "Patent" Expectations: A Neurologist Experience with Intellectual Pr
 operty Protection (Innovation Hub)\n\nAccess URL: https://www.aan.com/msa
 /Public/Events/GetEventURL/15832\n\nLearn More About This Event: https://
 www.aan.com/msa/Public/Events/Details/15832
DTEND;TZID=Eastern Standard Time:20230425T133000
DTSTAMP:20260424T053201Z
DTSTART;TZID=Eastern Standard Time:20230425T130000
LOCATION:https://www.aan.com/msa/Public/Events/GetEventURL/15832
SEQUENCE:0
SUMMARY:AAN: "Patent" Expectations: A Neurologist Experience with Intellec
 tual Property Protection (Innovation Hub)
UID:a84a77e3-7ae8-41ef-91aa-d57b8d35dba4
END:VEVENT
END:VCALENDAR
