BEGIN:VCALENDAR
PRODID:-//github.com/rianjs/ical.net//NONSGML ical.net 4.0//EN
VERSION:2.0
BEGIN:VTIMEZONE
TZID:Eastern Standard Time
X-LIC-LOCATION:America/New_York
BEGIN:STANDARD
DTSTART:20241103T020000
RRULE:FREQ=YEARLY;BYDAY=1SU;BYMONTH=11
TZNAME:EST
TZOFFSETFROM:-0400
TZOFFSETTO:-0500
END:STANDARD
BEGIN:DAYLIGHT
DTSTART:20250309T020000
RRULE:FREQ=YEARLY;BYDAY=2SU;BYMONTH=3
TZNAME:EDT
TZOFFSETFROM:-0500
TZOFFSETTO:-0400
END:DAYLIGHT
END:VTIMEZONE
BEGIN:VEVENT
DESCRIPTION:2023 Annual Meeting by the American Academy of Neurology\n\nTi
 tle: Java\, Juice\, and Jobs: A Career Event\n\nDescription: Java\, Juice
  & Jobs is a new event\, ideal for attendees exploring a new career oppor
 tunity\, whether they are already in practice or seeking their first job.
  The event is free for job seekers and features 30+ employer booths\, int
 eractive stations\, career advice\, giveaways and breakfast. Sponsored by
  the Neurology Career Center.\n\nBy attending this event\, you consent to
  the American Academy of Neurology (“AAN”) providing your contact informa
 tion (name\, job title\, organization\, city\, country\, and email) with 
 all exhibiting employers at the AAN career event. \n\n\n\nLearn More Abou
 t This Event: https://www.aan.com/msa/Public/Events/Details/15834
DTEND;TZID=Eastern Standard Time:20230424T090000
DTSTAMP:20260424T053202Z
DTSTART;TZID=Eastern Standard Time:20230424T070000
LOCATION:https://www.aan.com/msa/Public/Events/GetEventURL/15834
SEQUENCE:0
SUMMARY:AAN: Java\, Juice\, and Jobs: A Career Event
UID:a2316a26-6868-45d2-922b-e21aca170351
END:VEVENT
END:VCALENDAR
