BEGIN:VCALENDAR
PRODID:-//github.com/rianjs/ical.net//NONSGML ical.net 4.0//EN
VERSION:2.0
BEGIN:VTIMEZONE
TZID:Eastern Standard Time
X-LIC-LOCATION:America/New_York
BEGIN:STANDARD
DTSTART:20241103T020000
RRULE:FREQ=YEARLY;BYDAY=1SU;BYMONTH=11
TZNAME:EST
TZOFFSETFROM:-0400
TZOFFSETTO:-0500
END:STANDARD
BEGIN:DAYLIGHT
DTSTART:20250309T020000
RRULE:FREQ=YEARLY;BYDAY=2SU;BYMONTH=3
TZNAME:EDT
TZOFFSETFROM:-0500
TZOFFSETTO:-0400
END:DAYLIGHT
END:VTIMEZONE
BEGIN:VEVENT
DESCRIPTION:2023 Annual Meeting by the American Academy of Neurology\n\nTi
 tle: How Failures Help Us Succeed (Innovation Hub)\n\nAccess URL: https:/
 /www.aan.com/msa/Public/Events/GetEventURL/15837\n\nLearn More About This
  Event: https://www.aan.com/msa/Public/Events/Details/15837
DTEND;TZID=Eastern Standard Time:20230426T134500
DTSTAMP:20260424T053302Z
DTSTART;TZID=Eastern Standard Time:20230426T124500
LOCATION:https://www.aan.com/msa/Public/Events/GetEventURL/15837
SEQUENCE:0
SUMMARY:AAN: How Failures Help Us Succeed (Innovation Hub)
UID:ab85b82e-950d-43b1-8c71-4b54e98f232d
END:VEVENT
END:VCALENDAR
