BEGIN:VCALENDAR
PRODID:-//github.com/rianjs/ical.net//NONSGML ical.net 4.0//EN
VERSION:2.0
BEGIN:VTIMEZONE
TZID:Eastern Standard Time
X-LIC-LOCATION:America/New_York
BEGIN:STANDARD
DTSTART:20241103T020000
RRULE:FREQ=YEARLY;BYDAY=1SU;BYMONTH=11
TZNAME:EST
TZOFFSETFROM:-0400
TZOFFSETTO:-0500
END:STANDARD
BEGIN:DAYLIGHT
DTSTART:20250309T020000
RRULE:FREQ=YEARLY;BYDAY=2SU;BYMONTH=3
TZNAME:EDT
TZOFFSETFROM:-0500
TZOFFSETTO:-0400
END:DAYLIGHT
END:VTIMEZONE
BEGIN:VEVENT
DESCRIPTION:2023 Annual Meeting by the American Academy of Neurology\n\nTi
 tle: Brain and Planetary Health: The Connections Between Neurology and Cl
 imate Change (Innovation Hub)\n\nAccess URL: https://www.aan.com/msa/Publ
 ic/Events/GetEventURL/15838\n\nLearn More About This Event: https://www.a
 an.com/msa/Public/Events/Details/15838
DTEND;TZID=Eastern Standard Time:20230426T143000
DTSTAMP:20260424T053302Z
DTSTART;TZID=Eastern Standard Time:20230426T140000
LOCATION:https://www.aan.com/msa/Public/Events/GetEventURL/15838
SEQUENCE:0
SUMMARY:AAN: Brain and Planetary Health: The Connections Between Neurology
  and Climate Change (Innovation Hub)
UID:853a65fa-67f4-452e-8e50-81f8690a4b91
END:VEVENT
END:VCALENDAR
