BEGIN:VCALENDAR
PRODID:-//github.com/rianjs/ical.net//NONSGML ical.net 4.0//EN
VERSION:2.0
BEGIN:VTIMEZONE
TZID:Eastern Standard Time
X-LIC-LOCATION:America/New_York
BEGIN:STANDARD
DTSTART:20241103T020000
RRULE:FREQ=YEARLY;BYDAY=1SU;BYMONTH=11
TZNAME:EST
TZOFFSETFROM:-0400
TZOFFSETTO:-0500
END:STANDARD
BEGIN:DAYLIGHT
DTSTART:20250309T020000
RRULE:FREQ=YEARLY;BYDAY=2SU;BYMONTH=3
TZNAME:EDT
TZOFFSETFROM:-0500
TZOFFSETTO:-0400
END:DAYLIGHT
END:VTIMEZONE
BEGIN:VEVENT
DESCRIPTION:2023 Annual Meeting by the American Academy of Neurology\n\nTi
 tle: Spokes and Strokes for All Sorts of Folks: Best Practices for Interp
 rofessional Communication During Telestroke Encounters (Innovation Hub)\n
 \nAccess URL: https://www.aan.com/msa/Public/Events/GetEventURL/15840\n\n
 Learn More About This Event: https://www.aan.com/msa/Public/Events/Detail
 s/15840
DTEND;TZID=Eastern Standard Time:20230424T141500
DTSTAMP:20260423T213203Z
DTSTART;TZID=Eastern Standard Time:20230424T134500
LOCATION:https://www.aan.com/msa/Public/Events/GetEventURL/15840
SEQUENCE:0
SUMMARY:AAN: Spokes and Strokes for All Sorts of Folks: Best Practices for
  Interprofessional Communication During Telestroke Encounters (Innovation
  Hub)
UID:ee29cb26-d862-44d2-850b-50ed3a875be6
END:VEVENT
END:VCALENDAR
