BEGIN:VCALENDAR
PRODID:-//github.com/rianjs/ical.net//NONSGML ical.net 4.0//EN
VERSION:2.0
BEGIN:VTIMEZONE
TZID:Eastern Standard Time
X-LIC-LOCATION:America/New_York
BEGIN:STANDARD
DTSTART:20241103T020000
RRULE:FREQ=YEARLY;BYDAY=1SU;BYMONTH=11
TZNAME:EST
TZOFFSETFROM:-0400
TZOFFSETTO:-0500
END:STANDARD
BEGIN:DAYLIGHT
DTSTART:20250309T020000
RRULE:FREQ=YEARLY;BYDAY=2SU;BYMONTH=3
TZNAME:EDT
TZOFFSETFROM:-0500
TZOFFSETTO:-0400
END:DAYLIGHT
END:VTIMEZONE
BEGIN:VEVENT
DESCRIPTION:2023 Annual Meeting by the American Academy of Neurology\n\nTi
 tle: Wellness Hub Social\n\nDescription: The Wellness Hub Social is for a
 ll attendees looking for a chance to rejuvenate themselves during a busy 
 meeting. Connect with colleagues and engage your senses by listening to a
  musical performance\, petting baby animals\, and having a healthy snack 
 or refreshing beverage.\n\nLearn More About This Event: https://www.aan.c
 om/msa/Public/Events/Details/15844
DTEND;TZID=Eastern Standard Time:20230424T170000
DTSTAMP:20260424T053303Z
DTSTART;TZID=Eastern Standard Time:20230424T150000
LOCATION:https://www.aan.com/msa/Public/Events/GetEventURL/15844
SEQUENCE:0
SUMMARY:AAN: Wellness Hub Social
UID:6863b27a-0e6c-4146-b575-b54b2c92b53e
END:VEVENT
END:VCALENDAR
