BEGIN:VCALENDAR
PRODID:-//github.com/rianjs/ical.net//NONSGML ical.net 4.0//EN
VERSION:2.0
BEGIN:VTIMEZONE
TZID:Eastern Standard Time
X-LIC-LOCATION:America/New_York
BEGIN:STANDARD
DTSTART:20241103T020000
RRULE:FREQ=YEARLY;BYDAY=1SU;BYMONTH=11
TZNAME:EST
TZOFFSETFROM:-0400
TZOFFSETTO:-0500
END:STANDARD
BEGIN:DAYLIGHT
DTSTART:20250309T020000
RRULE:FREQ=YEARLY;BYDAY=2SU;BYMONTH=3
TZNAME:EDT
TZOFFSETFROM:-0500
TZOFFSETTO:-0400
END:DAYLIGHT
END:VTIMEZONE
BEGIN:VEVENT
DESCRIPTION:2023 Annual Meeting by the American Academy of Neurology\n\nTi
 tle: Translating Guidelines into Quality Measures: Painful Diabetic Neuro
 pathy (Practice and Policy Hub)\n\nAccess URL: https://www.aan.com/msa/Pu
 blic/Events/GetEventURL/15848\n\nLearn More About This Event: https://www
 .aan.com/msa/Public/Events/Details/15848
DTEND;TZID=Eastern Standard Time:20230422T084500
DTSTAMP:20260424T053153Z
DTSTART;TZID=Eastern Standard Time:20230422T081500
LOCATION:https://www.aan.com/msa/Public/Events/GetEventURL/15848
SEQUENCE:0
SUMMARY:AAN: Translating Guidelines into Quality Measures: Painful Diabeti
 c Neuropathy (Practice and Policy Hub)
UID:64a6a488-59df-4edd-990b-5ad074c87dd2
END:VEVENT
END:VCALENDAR
