BEGIN:VCALENDAR
PRODID:-//github.com/rianjs/ical.net//NONSGML ical.net 4.0//EN
VERSION:2.0
BEGIN:VTIMEZONE
TZID:Eastern Standard Time
X-LIC-LOCATION:America/New_York
BEGIN:STANDARD
DTSTART:20241103T020000
RRULE:FREQ=YEARLY;BYDAY=1SU;BYMONTH=11
TZNAME:EST
TZOFFSETFROM:-0400
TZOFFSETTO:-0500
END:STANDARD
BEGIN:DAYLIGHT
DTSTART:20250309T020000
RRULE:FREQ=YEARLY;BYDAY=2SU;BYMONTH=3
TZNAME:EDT
TZOFFSETFROM:-0500
TZOFFSETTO:-0400
END:DAYLIGHT
END:VTIMEZONE
BEGIN:VEVENT
DESCRIPTION:2023 Annual Meeting by the American Academy of Neurology\n\nTi
 tle: Decreasing Fragmentation in Care: Lessons Learned from a Multidiscip
 linary FND Program (Practice and Policy Hub)\n\nAccess URL: https://www.a
 an.com/msa/Public/Events/GetEventURL/15850\n\nLearn More About This Event
 : https://www.aan.com/msa/Public/Events/Details/15850
DTEND;TZID=Eastern Standard Time:20230422T150000
DTSTAMP:20260424T053428Z
DTSTART;TZID=Eastern Standard Time:20230422T143000
LOCATION:https://www.aan.com/msa/Public/Events/GetEventURL/15850
SEQUENCE:0
SUMMARY:AAN: Decreasing Fragmentation in Care: Lessons Learned from a Mult
 idisciplinary FND Program (Practice and Policy Hub)
UID:0ad4c549-6980-4e36-bead-831096ff42c6
END:VEVENT
END:VCALENDAR
