BEGIN:VCALENDAR
PRODID:-//github.com/rianjs/ical.net//NONSGML ical.net 4.0//EN
VERSION:2.0
BEGIN:VTIMEZONE
TZID:Eastern Standard Time
X-LIC-LOCATION:America/New_York
BEGIN:STANDARD
DTSTART:20241103T020000
RRULE:FREQ=YEARLY;BYDAY=1SU;BYMONTH=11
TZNAME:EST
TZOFFSETFROM:-0400
TZOFFSETTO:-0500
END:STANDARD
BEGIN:DAYLIGHT
DTSTART:20250309T020000
RRULE:FREQ=YEARLY;BYDAY=2SU;BYMONTH=3
TZNAME:EDT
TZOFFSETFROM:-0500
TZOFFSETTO:-0400
END:DAYLIGHT
END:VTIMEZONE
BEGIN:VEVENT
DESCRIPTION:2023 Annual Meeting by the American Academy of Neurology\n\nTi
 tle: Practice Pearls of Telemedicine Limitations (Practice and Policy Hub
 )\n\nAccess URL: https://www.aan.com/msa/Public/Events/GetEventURL/15852\
 n\nLearn More About This Event: https://www.aan.com/msa/Public/Events/Det
 ails/15852
DTEND;TZID=Eastern Standard Time:20230422T154500
DTSTAMP:20260424T053151Z
DTSTART;TZID=Eastern Standard Time:20230422T151500
LOCATION:https://www.aan.com/msa/Public/Events/GetEventURL/15852
SEQUENCE:0
SUMMARY:AAN: Practice Pearls of Telemedicine Limitations (Practice and Pol
 icy Hub)
UID:cb4b3623-d4d1-413b-bb98-de423cfb9904
END:VEVENT
END:VCALENDAR
