BEGIN:VCALENDAR
PRODID:-//github.com/rianjs/ical.net//NONSGML ical.net 4.0//EN
VERSION:2.0
BEGIN:VTIMEZONE
TZID:Eastern Standard Time
X-LIC-LOCATION:America/New_York
BEGIN:STANDARD
DTSTART:20241103T020000
RRULE:FREQ=YEARLY;BYDAY=1SU;BYMONTH=11
TZNAME:EST
TZOFFSETFROM:-0400
TZOFFSETTO:-0500
END:STANDARD
BEGIN:DAYLIGHT
DTSTART:20250309T020000
RRULE:FREQ=YEARLY;BYDAY=2SU;BYMONTH=3
TZNAME:EDT
TZOFFSETFROM:-0500
TZOFFSETTO:-0400
END:DAYLIGHT
END:VTIMEZONE
BEGIN:VEVENT
DESCRIPTION:2023 Annual Meeting by the American Academy of Neurology\n\nTi
 tle: Transforming Health Care Delivery in Neurology (Practice and Policy 
 Hub)\n\nAccess URL: https://www.aan.com/msa/Public/Events/GetEventURL/158
 53\n\nLearn More About This Event: https://www.aan.com/msa/Public/Events/
 Details/15853
DTEND;TZID=Eastern Standard Time:20230423T084500
DTSTAMP:20260424T070432Z
DTSTART;TZID=Eastern Standard Time:20230423T080000
LOCATION:https://www.aan.com/msa/Public/Events/GetEventURL/15853
SEQUENCE:0
SUMMARY:AAN: Transforming Health Care Delivery in Neurology (Practice and 
 Policy Hub)
UID:b51303fd-b1f5-49bb-ad1b-9252743b7a49
END:VEVENT
END:VCALENDAR
