BEGIN:VCALENDAR
PRODID:-//github.com/rianjs/ical.net//NONSGML ical.net 4.0//EN
VERSION:2.0
BEGIN:VTIMEZONE
TZID:Eastern Standard Time
X-LIC-LOCATION:America/New_York
BEGIN:STANDARD
DTSTART:20241103T020000
RRULE:FREQ=YEARLY;BYDAY=1SU;BYMONTH=11
TZNAME:EST
TZOFFSETFROM:-0400
TZOFFSETTO:-0500
END:STANDARD
BEGIN:DAYLIGHT
DTSTART:20250309T020000
RRULE:FREQ=YEARLY;BYDAY=2SU;BYMONTH=3
TZNAME:EDT
TZOFFSETFROM:-0500
TZOFFSETTO:-0400
END:DAYLIGHT
END:VTIMEZONE
BEGIN:VEVENT
DESCRIPTION:2023 Annual Meeting by the American Academy of Neurology\n\nTi
 tle: How the Axon Registry's New Quality Dashboard Improves Reporting and
  Quality of Care (Practice and Policy Hub)\n\nAccess URL: https://www.aan
 .com/msa/Public/Events/GetEventURL/15854\n\nLearn More About This Event: 
 https://www.aan.com/msa/Public/Events/Details/15854
DTEND;TZID=Eastern Standard Time:20230423T123000
DTSTAMP:20260424T053311Z
DTSTART;TZID=Eastern Standard Time:20230423T120000
LOCATION:https://www.aan.com/msa/Public/Events/GetEventURL/15854
SEQUENCE:0
SUMMARY:AAN: How the Axon Registry's New Quality Dashboard Improves Report
 ing and Quality of Care (Practice and Policy Hub)
UID:828cc032-5df9-41ad-94b9-947fca67ea4c
END:VEVENT
END:VCALENDAR
