BEGIN:VCALENDAR
PRODID:-//github.com/rianjs/ical.net//NONSGML ical.net 4.0//EN
VERSION:2.0
BEGIN:VTIMEZONE
TZID:Eastern Standard Time
X-LIC-LOCATION:America/New_York
BEGIN:STANDARD
DTSTART:20241103T020000
RRULE:FREQ=YEARLY;BYDAY=1SU;BYMONTH=11
TZNAME:EST
TZOFFSETFROM:-0400
TZOFFSETTO:-0500
END:STANDARD
BEGIN:DAYLIGHT
DTSTART:20250309T020000
RRULE:FREQ=YEARLY;BYDAY=2SU;BYMONTH=3
TZNAME:EDT
TZOFFSETFROM:-0500
TZOFFSETTO:-0400
END:DAYLIGHT
END:VTIMEZONE
BEGIN:VEVENT
DESCRIPTION:2023 Annual Meeting by the American Academy of Neurology\n\nTi
 tle: Prior Authorization: Everything You Need to Know and Now Will (Pract
 ice and Policy Hub)\n\nAccess URL: https://www.aan.com/msa/Public/Events/
 GetEventURL/15855\n\nLearn More About This Event: https://www.aan.com/msa
 /Public/Events/Details/15855
DTEND;TZID=Eastern Standard Time:20230423T143000
DTSTAMP:20260424T053202Z
DTSTART;TZID=Eastern Standard Time:20230423T133000
LOCATION:https://www.aan.com/msa/Public/Events/GetEventURL/15855
SEQUENCE:0
SUMMARY:AAN: Prior Authorization: Everything You Need to Know and Now Will
  (Practice and Policy Hub)
UID:1f8740c2-7c4b-46c8-83f3-5790380ac86f
END:VEVENT
END:VCALENDAR
