BEGIN:VCALENDAR
PRODID:-//github.com/rianjs/ical.net//NONSGML ical.net 4.0//EN
VERSION:2.0
BEGIN:VTIMEZONE
TZID:Eastern Standard Time
X-LIC-LOCATION:America/New_York
BEGIN:STANDARD
DTSTART:20241103T020000
RRULE:FREQ=YEARLY;BYDAY=1SU;BYMONTH=11
TZNAME:EST
TZOFFSETFROM:-0400
TZOFFSETTO:-0500
END:STANDARD
BEGIN:DAYLIGHT
DTSTART:20250309T020000
RRULE:FREQ=YEARLY;BYDAY=2SU;BYMONTH=3
TZNAME:EDT
TZOFFSETFROM:-0500
TZOFFSETTO:-0400
END:DAYLIGHT
END:VTIMEZONE
BEGIN:VEVENT
DESCRIPTION:2023 Annual Meeting by the American Academy of Neurology\n\nTi
 tle: Patient Record Request Controversies: How Would You Handle It? (Prac
 tice and Policy Hub)\n\nAccess URL: https://www.aan.com/msa/Public/Events
 /GetEventURL/15858\n\nLearn More About This Event: https://www.aan.com/ms
 a/Public/Events/Details/15858
DTEND;TZID=Eastern Standard Time:20230426T163000
DTSTAMP:20260424T053351Z
DTSTART;TZID=Eastern Standard Time:20230426T160000
LOCATION:https://www.aan.com/msa/Public/Events/GetEventURL/15858
SEQUENCE:0
SUMMARY:AAN: Patient Record Request Controversies: How Would You Handle It
 ? (Practice and Policy Hub)
UID:b5f0496f-e215-4831-ae41-c1379a0680f9
END:VEVENT
END:VCALENDAR
