BEGIN:VCALENDAR
PRODID:-//github.com/rianjs/ical.net//NONSGML ical.net 4.0//EN
VERSION:2.0
BEGIN:VTIMEZONE
TZID:Eastern Standard Time
X-LIC-LOCATION:America/New_York
BEGIN:STANDARD
DTSTART:20241103T020000
RRULE:FREQ=YEARLY;BYDAY=1SU;BYMONTH=11
TZNAME:EST
TZOFFSETFROM:-0400
TZOFFSETTO:-0500
END:STANDARD
BEGIN:DAYLIGHT
DTSTART:20250309T020000
RRULE:FREQ=YEARLY;BYDAY=2SU;BYMONTH=3
TZNAME:EDT
TZOFFSETFROM:-0500
TZOFFSETTO:-0400
END:DAYLIGHT
END:VTIMEZONE
BEGIN:VEVENT
DESCRIPTION:2023 Annual Meeting by the American Academy of Neurology\n\nTi
 tle: Neurology and Public Health Surveillance: Bridging the Gap to Suppor
 t Clinical Practice (Practice and Policy Hub)\n\nAccess URL: https://www.
 aan.com/msa/Public/Events/GetEventURL/15859\n\nLearn More About This Even
 t: https://www.aan.com/msa/Public/Events/Details/15859
DTEND;TZID=Eastern Standard Time:20230423T174500
DTSTAMP:20260424T053353Z
DTSTART;TZID=Eastern Standard Time:20230423T171500
LOCATION:https://www.aan.com/msa/Public/Events/GetEventURL/15859
SEQUENCE:0
SUMMARY:AAN: Neurology and Public Health Surveillance: Bridging the Gap to
  Support Clinical Practice (Practice and Policy Hub)
UID:78d53be6-e033-4550-9380-8ddc728c2e45
END:VEVENT
END:VCALENDAR
