BEGIN:VCALENDAR
PRODID:-//github.com/rianjs/ical.net//NONSGML ical.net 4.0//EN
VERSION:2.0
BEGIN:VTIMEZONE
TZID:Eastern Standard Time
X-LIC-LOCATION:America/New_York
BEGIN:STANDARD
DTSTART:20241103T020000
RRULE:FREQ=YEARLY;BYDAY=1SU;BYMONTH=11
TZNAME:EST
TZOFFSETFROM:-0400
TZOFFSETTO:-0500
END:STANDARD
BEGIN:DAYLIGHT
DTSTART:20250309T020000
RRULE:FREQ=YEARLY;BYDAY=2SU;BYMONTH=3
TZNAME:EDT
TZOFFSETFROM:-0500
TZOFFSETTO:-0400
END:DAYLIGHT
END:VTIMEZONE
BEGIN:VEVENT
DESCRIPTION:2023 Annual Meeting by the American Academy of Neurology\n\nTi
 tle: Making Sense of Coding (Practice and Policy Hub)\n\nAccess URL: http
 s://www.aan.com/msa/Public/Events/GetEventURL/15860\n\nLearn More About T
 his Event: https://www.aan.com/msa/Public/Events/Details/15860
DTEND;TZID=Eastern Standard Time:20230424T084500
DTSTAMP:20260424T053202Z
DTSTART;TZID=Eastern Standard Time:20230424T081500
LOCATION:https://www.aan.com/msa/Public/Events/GetEventURL/15860
SEQUENCE:0
SUMMARY:AAN: Making Sense of Coding (Practice and Policy Hub)
UID:e6810b2c-57e9-41a9-b639-bd96f59c25ac
END:VEVENT
END:VCALENDAR
