BEGIN:VCALENDAR
PRODID:-//github.com/rianjs/ical.net//NONSGML ical.net 4.0//EN
VERSION:2.0
BEGIN:VTIMEZONE
TZID:Eastern Standard Time
X-LIC-LOCATION:America/New_York
BEGIN:STANDARD
DTSTART:20241103T020000
RRULE:FREQ=YEARLY;BYDAY=1SU;BYMONTH=11
TZNAME:EST
TZOFFSETFROM:-0400
TZOFFSETTO:-0500
END:STANDARD
BEGIN:DAYLIGHT
DTSTART:20250309T020000
RRULE:FREQ=YEARLY;BYDAY=2SU;BYMONTH=3
TZNAME:EDT
TZOFFSETFROM:-0500
TZOFFSETTO:-0400
END:DAYLIGHT
END:VTIMEZONE
BEGIN:VEVENT
DESCRIPTION:2023 Annual Meeting by the American Academy of Neurology\n\nTi
 tle: Social Determinants of Health\, Health Equity\, and Neurology (Pract
 ice and Policy Hub)\n\nAccess URL: https://www.aan.com/msa/Public/Events/
 GetEventURL/15862\n\nLearn More About This Event: https://www.aan.com/msa
 /Public/Events/Details/15862
DTEND;TZID=Eastern Standard Time:20230424T143000
DTSTAMP:20260424T053354Z
DTSTART;TZID=Eastern Standard Time:20230424T140000
LOCATION:https://www.aan.com/msa/Public/Events/GetEventURL/15862
SEQUENCE:0
SUMMARY:AAN: Social Determinants of Health\, Health Equity\, and Neurology
  (Practice and Policy Hub)
UID:472d1661-dbc3-42c8-ae62-7e1ec403f9e6
END:VEVENT
END:VCALENDAR
