BEGIN:VCALENDAR
PRODID:-//github.com/rianjs/ical.net//NONSGML ical.net 4.0//EN
VERSION:2.0
BEGIN:VTIMEZONE
TZID:Eastern Standard Time
X-LIC-LOCATION:America/New_York
BEGIN:STANDARD
DTSTART:20241103T020000
RRULE:FREQ=YEARLY;BYDAY=1SU;BYMONTH=11
TZNAME:EST
TZOFFSETFROM:-0400
TZOFFSETTO:-0500
END:STANDARD
BEGIN:DAYLIGHT
DTSTART:20250309T020000
RRULE:FREQ=YEARLY;BYDAY=2SU;BYMONTH=3
TZNAME:EDT
TZOFFSETFROM:-0500
TZOFFSETTO:-0400
END:DAYLIGHT
END:VTIMEZONE
BEGIN:VEVENT
DESCRIPTION:2023 Annual Meeting by the American Academy of Neurology\n\nTi
 tle: Best Practices for Collecting Race\, Ethnicity and SOGI Data in Your
  Clinic: Getting the Data We Need to Effect Change (Practice and Policy H
 ub)\n\nAccess URL: https://www.aan.com/msa/Public/Events/GetEventURL/1586
 5\n\nLearn More About This Event: https://www.aan.com/msa/Public/Events/D
 etails/15865
DTEND;TZID=Eastern Standard Time:20230424T180000
DTSTAMP:20260424T053302Z
DTSTART;TZID=Eastern Standard Time:20230424T173000
LOCATION:https://www.aan.com/msa/Public/Events/GetEventURL/15865
SEQUENCE:0
SUMMARY:AAN: Best Practices for Collecting Race\, Ethnicity and SOGI Data 
 in Your Clinic: Getting the Data We Need to Effect Change (Practice and P
 olicy Hub)
UID:d07c9f55-d76e-476e-9f49-a0e7db6d2975
END:VEVENT
END:VCALENDAR
