BEGIN:VCALENDAR
PRODID:-//github.com/rianjs/ical.net//NONSGML ical.net 4.0//EN
VERSION:2.0
BEGIN:VTIMEZONE
TZID:Eastern Standard Time
X-LIC-LOCATION:America/New_York
BEGIN:STANDARD
DTSTART:20241103T020000
RRULE:FREQ=YEARLY;BYDAY=1SU;BYMONTH=11
TZNAME:EST
TZOFFSETFROM:-0400
TZOFFSETTO:-0500
END:STANDARD
BEGIN:DAYLIGHT
DTSTART:20250309T020000
RRULE:FREQ=YEARLY;BYDAY=2SU;BYMONTH=3
TZNAME:EDT
TZOFFSETFROM:-0500
TZOFFSETTO:-0400
END:DAYLIGHT
END:VTIMEZONE
BEGIN:VEVENT
DESCRIPTION:2023 Annual Meeting by the American Academy of Neurology\n\nTi
 tle: Championing Quality Improvement in Academia (Practice and Policy Hub
 )\n\nAccess URL: https://www.aan.com/msa/Public/Events/GetEventURL/15866\
 n\nLearn More About This Event: https://www.aan.com/msa/Public/Events/Det
 ails/15866
DTEND;TZID=Eastern Standard Time:20230424T163000
DTSTAMP:20260424T053313Z
DTSTART;TZID=Eastern Standard Time:20230424T160000
LOCATION:https://www.aan.com/msa/Public/Events/GetEventURL/15866
SEQUENCE:0
SUMMARY:AAN: Championing Quality Improvement in Academia (Practice and Pol
 icy Hub)
UID:3c7d7d76-dac4-4d2d-adf1-a35e8de5b30f
END:VEVENT
END:VCALENDAR
