BEGIN:VCALENDAR
PRODID:-//github.com/rianjs/ical.net//NONSGML ical.net 4.0//EN
VERSION:2.0
BEGIN:VTIMEZONE
TZID:Eastern Standard Time
X-LIC-LOCATION:America/New_York
BEGIN:STANDARD
DTSTART:20241103T020000
RRULE:FREQ=YEARLY;BYDAY=1SU;BYMONTH=11
TZNAME:EST
TZOFFSETFROM:-0400
TZOFFSETTO:-0500
END:STANDARD
BEGIN:DAYLIGHT
DTSTART:20250309T020000
RRULE:FREQ=YEARLY;BYDAY=2SU;BYMONTH=3
TZNAME:EDT
TZOFFSETFROM:-0500
TZOFFSETTO:-0400
END:DAYLIGHT
END:VTIMEZONE
BEGIN:VEVENT
DESCRIPTION:2023 Annual Meeting by the American Academy of Neurology\n\nTi
 tle: Enhancing and Systematizing a Referral Framework for Your Practice (
 Practice and Policy Hub)\n\nAccess URL: https://www.aan.com/msa/Public/Ev
 ents/GetEventURL/15867\n\nLearn More About This Event: https://www.aan.co
 m/msa/Public/Events/Details/15867
DTEND;TZID=Eastern Standard Time:20230425T084500
DTSTAMP:20260424T053351Z
DTSTART;TZID=Eastern Standard Time:20230425T080000
LOCATION:https://www.aan.com/msa/Public/Events/GetEventURL/15867
SEQUENCE:0
SUMMARY:AAN: Enhancing and Systematizing a Referral Framework for Your Pra
 ctice (Practice and Policy Hub)
UID:dff816ea-9947-4916-935e-864cea2240dd
END:VEVENT
END:VCALENDAR
