BEGIN:VCALENDAR
PRODID:-//github.com/rianjs/ical.net//NONSGML ical.net 4.0//EN
VERSION:2.0
BEGIN:VTIMEZONE
TZID:Eastern Standard Time
X-LIC-LOCATION:America/New_York
BEGIN:STANDARD
DTSTART:20241103T020000
RRULE:FREQ=YEARLY;BYDAY=1SU;BYMONTH=11
TZNAME:EST
TZOFFSETFROM:-0400
TZOFFSETTO:-0500
END:STANDARD
BEGIN:DAYLIGHT
DTSTART:20250309T020000
RRULE:FREQ=YEARLY;BYDAY=2SU;BYMONTH=3
TZNAME:EDT
TZOFFSETFROM:-0500
TZOFFSETTO:-0400
END:DAYLIGHT
END:VTIMEZONE
BEGIN:VEVENT
DESCRIPTION:2023 Annual Meeting by the American Academy of Neurology\n\nTi
 tle: Increasing Advocacy Engagement Across the Academy: Ways to Effect Ch
 ange from Clinics to the NIH (Practice and Policy Hub)\n\nAccess URL: htt
 ps://www.aan.com/msa/Public/Events/GetEventURL/15870\n\nLearn More About 
 This Event: https://www.aan.com/msa/Public/Events/Details/15870
DTEND;TZID=Eastern Standard Time:20230425T144500
DTSTAMP:20260424T053310Z
DTSTART;TZID=Eastern Standard Time:20230425T134500
LOCATION:https://www.aan.com/msa/Public/Events/GetEventURL/15870
SEQUENCE:0
SUMMARY:AAN: Increasing Advocacy Engagement Across the Academy: Ways to Ef
 fect Change from Clinics to the NIH (Practice and Policy Hub)
UID:9e10e7a8-b396-4626-9ce0-bbaead7d2700
END:VEVENT
END:VCALENDAR
