BEGIN:VCALENDAR
PRODID:-//github.com/rianjs/ical.net//NONSGML ical.net 4.0//EN
VERSION:2.0
BEGIN:VTIMEZONE
TZID:Eastern Standard Time
X-LIC-LOCATION:America/New_York
BEGIN:STANDARD
DTSTART:20241103T020000
RRULE:FREQ=YEARLY;BYDAY=1SU;BYMONTH=11
TZNAME:EST
TZOFFSETFROM:-0400
TZOFFSETTO:-0500
END:STANDARD
BEGIN:DAYLIGHT
DTSTART:20250309T020000
RRULE:FREQ=YEARLY;BYDAY=2SU;BYMONTH=3
TZNAME:EDT
TZOFFSETFROM:-0500
TZOFFSETTO:-0400
END:DAYLIGHT
END:VTIMEZONE
BEGIN:VEVENT
DESCRIPTION:2023 Annual Meeting by the American Academy of Neurology\n\nTi
 tle: Using the Neurology Compensation and Productivity (NCP) Survey to He
 lp Your Organization (Practice and Policy Hub)\n\nAccess URL: https://www
 .aan.com/msa/Public/Events/GetEventURL/15872\n\nLearn More About This Eve
 nt: https://www.aan.com/msa/Public/Events/Details/15872
DTEND;TZID=Eastern Standard Time:20230425T161500
DTSTAMP:20260424T053309Z
DTSTART;TZID=Eastern Standard Time:20230425T154500
LOCATION:https://www.aan.com/msa/Public/Events/GetEventURL/15872
SEQUENCE:0
SUMMARY:AAN: Using the Neurology Compensation and Productivity (NCP) Surve
 y to Help Your Organization (Practice and Policy Hub)
UID:fb42bf77-1f09-4468-b741-0b23f20aed3d
END:VEVENT
END:VCALENDAR
