BEGIN:VCALENDAR
PRODID:-//github.com/rianjs/ical.net//NONSGML ical.net 4.0//EN
VERSION:2.0
BEGIN:VTIMEZONE
TZID:Eastern Standard Time
X-LIC-LOCATION:America/New_York
BEGIN:STANDARD
DTSTART:20241103T020000
RRULE:FREQ=YEARLY;BYDAY=1SU;BYMONTH=11
TZNAME:EST
TZOFFSETFROM:-0400
TZOFFSETTO:-0500
END:STANDARD
BEGIN:DAYLIGHT
DTSTART:20250309T020000
RRULE:FREQ=YEARLY;BYDAY=2SU;BYMONTH=3
TZNAME:EDT
TZOFFSETFROM:-0500
TZOFFSETTO:-0400
END:DAYLIGHT
END:VTIMEZONE
BEGIN:VEVENT
DESCRIPTION:2023 Annual Meeting by the American Academy of Neurology\n\nTi
 tle: The Can and Can't Do's of Teleneurology (Practice and Policy Hub)\n\
 nAccess URL: https://www.aan.com/msa/Public/Events/GetEventURL/15877\n\nL
 earn More About This Event: https://www.aan.com/msa/Public/Events/Details
 /15877
DTEND;TZID=Eastern Standard Time:20230426T134500
DTSTAMP:20260424T070417Z
DTSTART;TZID=Eastern Standard Time:20230426T131500
LOCATION:https://www.aan.com/msa/Public/Events/GetEventURL/15877
SEQUENCE:0
SUMMARY:AAN: The Can and Can't Do's of Teleneurology (Practice and Policy 
 Hub)
UID:1a7e1c6a-d761-4a7f-997c-5f4c0357ca92
END:VEVENT
END:VCALENDAR
