BEGIN:VCALENDAR
PRODID:-//github.com/rianjs/ical.net//NONSGML ical.net 4.0//EN
VERSION:2.0
BEGIN:VTIMEZONE
TZID:Eastern Standard Time
X-LIC-LOCATION:America/New_York
BEGIN:STANDARD
DTSTART:20241103T020000
RRULE:FREQ=YEARLY;BYDAY=1SU;BYMONTH=11
TZNAME:EST
TZOFFSETFROM:-0400
TZOFFSETTO:-0500
END:STANDARD
BEGIN:DAYLIGHT
DTSTART:20250309T020000
RRULE:FREQ=YEARLY;BYDAY=2SU;BYMONTH=3
TZNAME:EDT
TZOFFSETFROM:-0500
TZOFFSETTO:-0400
END:DAYLIGHT
END:VTIMEZONE
BEGIN:VEVENT
DESCRIPTION:2023 Annual Meeting by the American Academy of Neurology\n\nTi
 tle: How to Build a Research Site at Your Practice (Practice and Policy H
 ub)\n\nAccess URL: https://www.aan.com/msa/Public/Events/GetEventURL/1587
 9\n\nLearn More About This Event: https://www.aan.com/msa/Public/Events/D
 etails/15879
DTEND;TZID=Eastern Standard Time:20230423T170000
DTSTAMP:20260424T053202Z
DTSTART;TZID=Eastern Standard Time:20230423T163000
LOCATION:https://www.aan.com/msa/Public/Events/GetEventURL/15879
SEQUENCE:0
SUMMARY:AAN: How to Build a Research Site at Your Practice (Practice and P
 olicy Hub)
UID:53b27a07-61c0-44a4-b398-6d32f5f61960
END:VEVENT
END:VCALENDAR
