BEGIN:VCALENDAR
PRODID:-//github.com/rianjs/ical.net//NONSGML ical.net 4.0//EN
VERSION:2.0
BEGIN:VTIMEZONE
TZID:Eastern Standard Time
X-LIC-LOCATION:America/New_York
BEGIN:STANDARD
DTSTART:20241103T020000
RRULE:FREQ=YEARLY;BYDAY=1SU;BYMONTH=11
TZNAME:EST
TZOFFSETFROM:-0400
TZOFFSETTO:-0500
END:STANDARD
BEGIN:DAYLIGHT
DTSTART:20250309T020000
RRULE:FREQ=YEARLY;BYDAY=2SU;BYMONTH=3
TZNAME:EDT
TZOFFSETFROM:-0500
TZOFFSETTO:-0400
END:DAYLIGHT
END:VTIMEZONE
BEGIN:VEVENT
DESCRIPTION:2023 Annual Meeting by the American Academy of Neurology\n\nTi
 tle: University Hospitals Cleveland Medical Center/Case Western Reserve U
 niversity Resident/Fellow Alumni Reunion (Non-AAN Sponsored Event)\n\nDes
 cription: Annual reception where current and past faculty\, residents and
  fellows mingle.  Mostly cocktail rounds and some tables with chairs.  Ap
 petizers and bar.\n\nLearn More About This Event: https://www.aan.com/msa
 /Public/Events/Details/15881
DTEND;TZID=Eastern Standard Time:20230425T210000
DTSTAMP:20260424T053603Z
DTSTART;TZID=Eastern Standard Time:20230425T180000
LOCATION:https://www.aan.com/msa/Public/Events/GetEventURL/15881
SEQUENCE:0
SUMMARY:AAN: University Hospitals Cleveland Medical Center/Case Western Re
 serve University Resident/Fellow Alumni Reunion (Non-AAN Sponsored Event)
UID:3a31869a-2d8c-47cb-afe6-35a4e6170354
END:VEVENT
END:VCALENDAR
