BEGIN:VCALENDAR
PRODID:-//github.com/rianjs/ical.net//NONSGML ical.net 4.0//EN
VERSION:2.0
BEGIN:VTIMEZONE
TZID:Eastern Standard Time
X-LIC-LOCATION:America/New_York
BEGIN:STANDARD
DTSTART:20241103T020000
RRULE:FREQ=YEARLY;BYDAY=1SU;BYMONTH=11
TZNAME:EST
TZOFFSETFROM:-0400
TZOFFSETTO:-0500
END:STANDARD
BEGIN:DAYLIGHT
DTSTART:20250309T020000
RRULE:FREQ=YEARLY;BYDAY=2SU;BYMONTH=3
TZNAME:EDT
TZOFFSETFROM:-0500
TZOFFSETTO:-0400
END:DAYLIGHT
END:VTIMEZONE
BEGIN:VEVENT
DESCRIPTION:2023 Annual Meeting by the American Academy of Neurology\n\nTi
 tle: Award Recognition (Practice and Policy Hub)\n\nAccess URL: https://w
 ww.aan.com/msa/Public/Events/GetEventURL/15890\n\nLearn More About This E
 vent: https://www.aan.com/msa/Public/Events/Details/15890
DTEND;TZID=Eastern Standard Time:20230424T130000
DTSTAMP:20260424T053202Z
DTSTART;TZID=Eastern Standard Time:20230424T120000
LOCATION:https://www.aan.com/msa/Public/Events/GetEventURL/15890
SEQUENCE:0
SUMMARY:AAN: Award Recognition (Practice and Policy Hub)
UID:4722a270-9072-4d95-bc86-27e9b7ba28fe
END:VEVENT
END:VCALENDAR
