BEGIN:VCALENDAR
PRODID:-//github.com/rianjs/ical.net//NONSGML ical.net 4.0//EN
VERSION:2.0
BEGIN:VTIMEZONE
TZID:Eastern Standard Time
X-LIC-LOCATION:America/New_York
BEGIN:STANDARD
DTSTART:20241103T020000
RRULE:FREQ=YEARLY;BYDAY=1SU;BYMONTH=11
TZNAME:EST
TZOFFSETFROM:-0400
TZOFFSETTO:-0500
END:STANDARD
BEGIN:DAYLIGHT
DTSTART:20250309T020000
RRULE:FREQ=YEARLY;BYDAY=2SU;BYMONTH=3
TZNAME:EDT
TZOFFSETFROM:-0500
TZOFFSETTO:-0400
END:DAYLIGHT
END:VTIMEZONE
BEGIN:VEVENT
DESCRIPTION:2023 Annual Meeting by the American Academy of Neurology\n\nTi
 tle: Business Administrator Networking Lunch at BA Day\n\nDescription: Ge
 t to know your peers over lunch.  Boxed lunches will be provided in commo
 n spaces in the convention center.  Grab your lunch and bring it back to 
 the room to join your colleagues for casual networking.\n\nLearn More Abo
 ut This Event: https://www.aan.com/msa/Public/Events/Details/15902
DTEND;TZID=Eastern Standard Time:20230424T124500
DTSTAMP:20260423T213635Z
DTSTART;TZID=Eastern Standard Time:20230424T114500
LOCATION:https://www.aan.com/msa/Public/Events/GetEventURL/15902
SEQUENCE:0
SUMMARY:AAN: Business Administrator Networking Lunch at BA Day
UID:8fa19b8f-8341-4404-af53-a0d89afcc8ab
END:VEVENT
END:VCALENDAR
