BEGIN:VCALENDAR
PRODID:-//github.com/rianjs/ical.net//NONSGML ical.net 4.0//EN
VERSION:2.0
BEGIN:VTIMEZONE
TZID:Eastern Standard Time
X-LIC-LOCATION:America/New_York
BEGIN:STANDARD
DTSTART:20241103T020000
RRULE:FREQ=YEARLY;BYDAY=1SU;BYMONTH=11
TZNAME:EST
TZOFFSETFROM:-0400
TZOFFSETTO:-0500
END:STANDARD
BEGIN:DAYLIGHT
DTSTART:20250309T020000
RRULE:FREQ=YEARLY;BYDAY=2SU;BYMONTH=3
TZNAME:EDT
TZOFFSETFROM:-0500
TZOFFSETTO:-0400
END:DAYLIGHT
END:VTIMEZONE
BEGIN:VEVENT
DESCRIPTION:2023 Annual Meeting by the American Academy of Neurology\n\nTi
 tle: Business Administrator Networking Reception after BA Day\n\nDescript
 ion: Unwind with your business administrator peers with wine and appetize
 rs.\n\nLearn More About This Event: https://www.aan.com/msa/Public/Events
 /Details/15903
DTEND;TZID=Eastern Standard Time:20230424T190000
DTSTAMP:20260424T070417Z
DTSTART;TZID=Eastern Standard Time:20230424T180000
LOCATION:https://www.aan.com/msa/Public/Events/GetEventURL/15903
SEQUENCE:0
SUMMARY:AAN: Business Administrator Networking Reception after BA Day
UID:af1af2ef-9412-4a7c-9739-70705ec3adc8
END:VEVENT
END:VCALENDAR
