BEGIN:VCALENDAR
PRODID:-//github.com/rianjs/ical.net//NONSGML ical.net 4.0//EN
VERSION:2.0
BEGIN:VTIMEZONE
TZID:Eastern Standard Time
X-LIC-LOCATION:America/New_York
BEGIN:STANDARD
DTSTART:20241103T020000
RRULE:FREQ=YEARLY;BYDAY=1SU;BYMONTH=11
TZNAME:EST
TZOFFSETFROM:-0400
TZOFFSETTO:-0500
END:STANDARD
BEGIN:DAYLIGHT
DTSTART:20250309T020000
RRULE:FREQ=YEARLY;BYDAY=2SU;BYMONTH=3
TZNAME:EDT
TZOFFSETFROM:-0500
TZOFFSETTO:-0400
END:DAYLIGHT
END:VTIMEZONE
BEGIN:VEVENT
DESCRIPTION:2023 Annual Meeting by the American Academy of Neurology\n\nTi
 tle: Business Administrator Cohort Reunion\n\nDescription: Meet your fell
 ow Business Administrator cohort members at this in-person reunion and bu
 ild on the connections you've made virtually.  Then head over together to
  the 75th Anniversary Celebration at the Boston Science Museum.  \n\nLear
 n More About This Event: https://www.aan.com/msa/Public/Events/Details/15
 904
DTEND;TZID=Eastern Standard Time:20230423T180000
DTSTAMP:20260423T213748Z
DTSTART;TZID=Eastern Standard Time:20230423T170000
LOCATION:https://www.aan.com/msa/Public/Events/GetEventURL/15904
SEQUENCE:0
SUMMARY:AAN: Business Administrator Cohort Reunion
UID:a18f4e67-cb7a-4019-8db9-63888bd1d995
END:VEVENT
END:VCALENDAR
