BEGIN:VCALENDAR
PRODID:-//github.com/rianjs/ical.net//NONSGML ical.net 4.0//EN
VERSION:2.0
BEGIN:VTIMEZONE
TZID:Eastern Standard Time
X-LIC-LOCATION:America/New_York
BEGIN:STANDARD
DTSTART:20241103T020000
RRULE:FREQ=YEARLY;BYDAY=1SU;BYMONTH=11
TZNAME:EST
TZOFFSETFROM:-0400
TZOFFSETTO:-0500
END:STANDARD
BEGIN:DAYLIGHT
DTSTART:20250309T020000
RRULE:FREQ=YEARLY;BYDAY=2SU;BYMONTH=3
TZNAME:EDT
TZOFFSETFROM:-0500
TZOFFSETTO:-0400
END:DAYLIGHT
END:VTIMEZONE
BEGIN:VEVENT
DESCRIPTION:2023 Annual Meeting by the American Academy of Neurology\n\nTi
 tle: How to Prepare for Interviews (for Residency and Everything Else) (T
 rainee and Educator Hub)\n\nAccess URL: https://www.aan.com/msa/Public/Ev
 ents/GetEventURL/15919\n\nLearn More About This Event: https://www.aan.co
 m/msa/Public/Events/Details/15919
DTEND;TZID=Eastern Standard Time:20230422T123000
DTSTAMP:20260423T214040Z
DTSTART;TZID=Eastern Standard Time:20230422T113000
LOCATION:https://www.aan.com/msa/Public/Events/GetEventURL/15919
SEQUENCE:0
SUMMARY:AAN: How to Prepare for Interviews (for Residency and Everything E
 lse) (Trainee and Educator Hub)
UID:d66fa6be-5692-411c-b8d9-614ad09b5c6d
END:VEVENT
END:VCALENDAR
