BEGIN:VCALENDAR
PRODID:-//github.com/rianjs/ical.net//NONSGML ical.net 4.0//EN
VERSION:2.0
BEGIN:VTIMEZONE
TZID:Eastern Standard Time
X-LIC-LOCATION:America/New_York
BEGIN:STANDARD
DTSTART:20241103T020000
RRULE:FREQ=YEARLY;BYDAY=1SU;BYMONTH=11
TZNAME:EST
TZOFFSETFROM:-0400
TZOFFSETTO:-0500
END:STANDARD
BEGIN:DAYLIGHT
DTSTART:20250309T020000
RRULE:FREQ=YEARLY;BYDAY=2SU;BYMONTH=3
TZNAME:EDT
TZOFFSETFROM:-0500
TZOFFSETTO:-0400
END:DAYLIGHT
END:VTIMEZONE
BEGIN:VEVENT
DESCRIPTION:2023 Annual Meeting by the American Academy of Neurology\n\nTi
 tle: Neurology® Clinical Practice Editorial Board Meeting\n\nDescription:
  Neurology Clinical Practice Journal Editorial board members will meet to
  provide an overview of the accomplishments over the past year and goals 
 for what we are looking to accomplish this year.\n\nLearn More About This
  Event: https://www.aan.com/msa/Public/Events/Details/15922
DTEND;TZID=Eastern Standard Time:20230424T084500
DTSTAMP:20260424T053429Z
DTSTART;TZID=Eastern Standard Time:20230424T064500
LOCATION:https://www.aan.com/msa/Public/Events/GetEventURL/15922
SEQUENCE:0
SUMMARY:AAN: Neurology® Clinical Practice Editorial Board Meeting
UID:5a9d1556-85f5-4859-9bf1-cdb903c6fd1b
END:VEVENT
END:VCALENDAR
