BEGIN:VCALENDAR
PRODID:-//github.com/rianjs/ical.net//NONSGML ical.net 4.0//EN
VERSION:2.0
BEGIN:VTIMEZONE
TZID:Eastern Standard Time
X-LIC-LOCATION:America/New_York
BEGIN:STANDARD
DTSTART:20241103T020000
RRULE:FREQ=YEARLY;BYDAY=1SU;BYMONTH=11
TZNAME:EST
TZOFFSETFROM:-0400
TZOFFSETTO:-0500
END:STANDARD
BEGIN:DAYLIGHT
DTSTART:20250309T020000
RRULE:FREQ=YEARLY;BYDAY=2SU;BYMONTH=3
TZNAME:EDT
TZOFFSETFROM:-0500
TZOFFSETTO:-0400
END:DAYLIGHT
END:VTIMEZONE
BEGIN:VEVENT
DESCRIPTION:2023 Annual Meeting by the American Academy of Neurology\n\nTi
 tle: Maximizing Reimbursement for Telehealth Networking (Practice and Pol
 icy Hub)\n\nAccess URL: https://www.aan.com/msa/Public/Events/GetEventURL
 /15937\n\nLearn More About This Event: https://www.aan.com/msa/Public/Eve
 nts/Details/15937
DTEND;TZID=Eastern Standard Time:20230425T174500
DTSTAMP:20260424T070433Z
DTSTART;TZID=Eastern Standard Time:20230425T171500
LOCATION:https://www.aan.com/msa/Public/Events/GetEventURL/15937
SEQUENCE:0
SUMMARY:AAN: Maximizing Reimbursement for Telehealth Networking (Practice 
 and Policy Hub)
UID:ca0e7dae-92bf-4931-b08b-7a7def6f61cf
END:VEVENT
END:VCALENDAR
