BEGIN:VCALENDAR
PRODID:-//github.com/rianjs/ical.net//NONSGML ical.net 4.0//EN
VERSION:2.0
BEGIN:VTIMEZONE
TZID:Eastern Standard Time
X-LIC-LOCATION:America/New_York
BEGIN:STANDARD
DTSTART:20241103T020000
RRULE:FREQ=YEARLY;BYDAY=1SU;BYMONTH=11
TZNAME:EST
TZOFFSETFROM:-0400
TZOFFSETTO:-0500
END:STANDARD
BEGIN:DAYLIGHT
DTSTART:20250309T020000
RRULE:FREQ=YEARLY;BYDAY=2SU;BYMONTH=3
TZNAME:EDT
TZOFFSETFROM:-0500
TZOFFSETTO:-0400
END:DAYLIGHT
END:VTIMEZONE
BEGIN:VEVENT
DESCRIPTION:2023 Annual Meeting by the American Academy of Neurology\n\nTi
 tle: Think Before You Tweet: What Not to Do on Social Media (Innovation H
 ub)\n\nAccess URL: https://www.aan.com/msa/Public/Events/GetEventURL/1594
 4\n\nLearn More About This Event: https://www.aan.com/msa/Public/Events/D
 etails/15944
DTEND;TZID=Eastern Standard Time:20230425T141500
DTSTAMP:20260423T213902Z
DTSTART;TZID=Eastern Standard Time:20230425T134500
LOCATION:https://www.aan.com/msa/Public/Events/GetEventURL/15944
SEQUENCE:0
SUMMARY:AAN: Think Before You Tweet: What Not to Do on Social Media (Innov
 ation Hub)
UID:2ac710e0-f240-42e9-9c64-6b92e12a4a00
END:VEVENT
END:VCALENDAR
