BEGIN:VCALENDAR
PRODID:-//github.com/rianjs/ical.net//NONSGML ical.net 4.0//EN
VERSION:2.0
BEGIN:VTIMEZONE
TZID:Eastern Standard Time
X-LIC-LOCATION:America/New_York
BEGIN:STANDARD
DTSTART:20241103T020000
RRULE:FREQ=YEARLY;BYDAY=1SU;BYMONTH=11
TZNAME:EST
TZOFFSETFROM:-0400
TZOFFSETTO:-0500
END:STANDARD
BEGIN:DAYLIGHT
DTSTART:20250309T020000
RRULE:FREQ=YEARLY;BYDAY=2SU;BYMONTH=3
TZNAME:EDT
TZOFFSETFROM:-0500
TZOFFSETTO:-0400
END:DAYLIGHT
END:VTIMEZONE
BEGIN:VEVENT
DESCRIPTION:2023 Annual Meeting by the American Academy of Neurology\n\nTi
 tle: National MS Society Mentoring and Fellowship Luncheon (Non-AAN Spons
 ored Event)\n\nDescription: The National MS Society hosts a luncheon/ment
 oring session for young clinicians and investigators interested in learni
 ng about fellowship and other funding opportunities available from the Na
 tional MS Society. \n\nLearn More About This Event: https://www.aan.com/m
 sa/Public/Events/Details/15950
DTEND;TZID=Eastern Standard Time:20230425T133000
DTSTAMP:20260423T214116Z
DTSTART;TZID=Eastern Standard Time:20230425T120000
LOCATION:https://www.aan.com/msa/Public/Events/GetEventURL/15950
SEQUENCE:0
SUMMARY:AAN: National MS Society Mentoring and Fellowship Luncheon (Non-AA
 N Sponsored Event)
UID:c4f49fe5-ead4-4db7-8233-aac77c2cdb0a
END:VEVENT
END:VCALENDAR
