BEGIN:VCALENDAR
PRODID:-//github.com/rianjs/ical.net//NONSGML ical.net 4.0//EN
VERSION:2.0
BEGIN:VTIMEZONE
TZID:Eastern Standard Time
X-LIC-LOCATION:America/New_York
BEGIN:STANDARD
DTSTART:20241103T020000
RRULE:FREQ=YEARLY;BYDAY=1SU;BYMONTH=11
TZNAME:EST
TZOFFSETFROM:-0400
TZOFFSETTO:-0500
END:STANDARD
BEGIN:DAYLIGHT
DTSTART:20250309T020000
RRULE:FREQ=YEARLY;BYDAY=2SU;BYMONTH=3
TZNAME:EDT
TZOFFSETFROM:-0500
TZOFFSETTO:-0400
END:DAYLIGHT
END:VTIMEZONE
BEGIN:VEVENT
DESCRIPTION:2023 Annual Meeting by the American Academy of Neurology\n\nTi
 tle: Leveraging Inclusion to Mitigate Bias in Challenging Times (Leadersh
 ip University)\n\nAccess URL: https://www.aan.com/msa/Public/Events/GetEv
 entURL/15952\n\nLearn More About This Event: https://www.aan.com/msa/Publ
 ic/Events/Details/15952
DTEND;TZID=Eastern Standard Time:20230423T133000
DTSTAMP:20260424T053312Z
DTSTART;TZID=Eastern Standard Time:20230423T120000
LOCATION:https://www.aan.com/msa/Public/Events/GetEventURL/15952
SEQUENCE:0
SUMMARY:AAN: Leveraging Inclusion to Mitigate Bias in Challenging Times (L
 eadership University)
UID:097bc1a7-a8d6-4144-a513-a17b4628f5ac
END:VEVENT
END:VCALENDAR
