BEGIN:VCALENDAR
PRODID:-//github.com/rianjs/ical.net//NONSGML ical.net 4.0//EN
VERSION:2.0
BEGIN:VTIMEZONE
TZID:Eastern Standard Time
X-LIC-LOCATION:America/New_York
BEGIN:STANDARD
DTSTART:20241103T020000
RRULE:FREQ=YEARLY;BYDAY=1SU;BYMONTH=11
TZNAME:EST
TZOFFSETFROM:-0400
TZOFFSETTO:-0500
END:STANDARD
BEGIN:DAYLIGHT
DTSTART:20250309T020000
RRULE:FREQ=YEARLY;BYDAY=2SU;BYMONTH=3
TZNAME:EDT
TZOFFSETFROM:-0500
TZOFFSETTO:-0400
END:DAYLIGHT
END:VTIMEZONE
BEGIN:VEVENT
DESCRIPTION:2023 Annual Meeting by the American Academy of Neurology\n\nTi
 tle: Well-being and Emotional Intelligence (Leadership University)\n\nAcc
 ess URL: https://www.aan.com/msa/Public/Events/GetEventURL/15955\n\nLearn
  More About This Event: https://www.aan.com/msa/Public/Events/Details/159
 55
DTEND;TZID=Eastern Standard Time:20230425T150000
DTSTAMP:20260424T070433Z
DTSTART;TZID=Eastern Standard Time:20230425T140000
LOCATION:https://www.aan.com/msa/Public/Events/GetEventURL/15955
SEQUENCE:0
SUMMARY:AAN: Well-being and Emotional Intelligence (Leadership University)
UID:63dc3df9-c5c9-4356-8ccc-3c901e20c9e3
END:VEVENT
END:VCALENDAR
