BEGIN:VCALENDAR
PRODID:-//github.com/rianjs/ical.net//NONSGML ical.net 4.0//EN
VERSION:2.0
BEGIN:VTIMEZONE
TZID:Eastern Standard Time
X-LIC-LOCATION:America/New_York
BEGIN:STANDARD
DTSTART:20241103T020000
RRULE:FREQ=YEARLY;BYDAY=1SU;BYMONTH=11
TZNAME:EST
TZOFFSETFROM:-0400
TZOFFSETTO:-0500
END:STANDARD
BEGIN:DAYLIGHT
DTSTART:20250309T020000
RRULE:FREQ=YEARLY;BYDAY=2SU;BYMONTH=3
TZNAME:EDT
TZOFFSETFROM:-0500
TZOFFSETTO:-0400
END:DAYLIGHT
END:VTIMEZONE
BEGIN:VEVENT
DESCRIPTION:2023 Annual Meeting by the American Academy of Neurology\n\nTi
 tle: Coffee Connect: Early Career Researchers (Research Hub)\n\nAccess UR
 L: https://www.aan.com/msa/Public/Events/GetEventURL/15959\n\nLearn More 
 About This Event: https://www.aan.com/msa/Public/Events/Details/15959
DTEND;TZID=Eastern Standard Time:20230422T090000
DTSTAMP:20260424T053301Z
DTSTART;TZID=Eastern Standard Time:20230422T080000
LOCATION:https://www.aan.com/msa/Public/Events/GetEventURL/15959
SEQUENCE:0
SUMMARY:AAN: Coffee Connect: Early Career Researchers (Research Hub)
UID:59321004-7cb5-430d-9068-38cb8480a72c
END:VEVENT
END:VCALENDAR
