BEGIN:VCALENDAR
PRODID:-//github.com/rianjs/ical.net//NONSGML ical.net 4.0//EN
VERSION:2.0
BEGIN:VTIMEZONE
TZID:Eastern Standard Time
X-LIC-LOCATION:America/New_York
BEGIN:STANDARD
DTSTART:20241103T020000
RRULE:FREQ=YEARLY;BYDAY=1SU;BYMONTH=11
TZNAME:EST
TZOFFSETFROM:-0400
TZOFFSETTO:-0500
END:STANDARD
BEGIN:DAYLIGHT
DTSTART:20250309T020000
RRULE:FREQ=YEARLY;BYDAY=2SU;BYMONTH=3
TZNAME:EDT
TZOFFSETFROM:-0500
TZOFFSETTO:-0400
END:DAYLIGHT
END:VTIMEZONE
BEGIN:VEVENT
DESCRIPTION:2023 Annual Meeting by the American Academy of Neurology\n\nTi
 tle: University of Rochester - Neurology Alumni Reunion (Non-AAN Sponsore
 d Event)\n\nDescription: The reunion is a great venue for alumni who trai
 ned at the University of Rochester to reunite with current and past resid
 ents\, fellows and faculty. Each year at the reunion\, we present a resid
 ent alumnus award to recognize an outstanding Neurology alumnus who has m
 ade outstanding contributions to the field of neurology.  Additionally\, 
 we provide an update on new developments in research and education taking
  place in Neurology at the University of Rochester.\n\nLearn More About T
 his Event: https://www.aan.com/msa/Public/Events/Details/15962
DTEND;TZID=Eastern Standard Time:20230425T200000
DTSTAMP:20260424T053200Z
DTSTART;TZID=Eastern Standard Time:20230425T180000
LOCATION:https://www.aan.com/msa/Public/Events/GetEventURL/15962
SEQUENCE:0
SUMMARY:AAN: University of Rochester - Neurology Alumni Reunion (Non-AAN S
 ponsored Event)
UID:a2348284-c7c9-41c1-8621-7baf55728c35
END:VEVENT
END:VCALENDAR
