BEGIN:VCALENDAR
PRODID:-//github.com/rianjs/ical.net//NONSGML ical.net 4.0//EN
VERSION:2.0
BEGIN:VTIMEZONE
TZID:Eastern Standard Time
X-LIC-LOCATION:America/New_York
BEGIN:STANDARD
DTSTART:20241103T020000
RRULE:FREQ=YEARLY;BYDAY=1SU;BYMONTH=11
TZNAME:EST
TZOFFSETFROM:-0400
TZOFFSETTO:-0500
END:STANDARD
BEGIN:DAYLIGHT
DTSTART:20250309T020000
RRULE:FREQ=YEARLY;BYDAY=2SU;BYMONTH=3
TZNAME:EDT
TZOFFSETFROM:-0500
TZOFFSETTO:-0400
END:DAYLIGHT
END:VTIMEZONE
BEGIN:VEVENT
DESCRIPTION:2023 Annual Meeting by the American Academy of Neurology\n\nTi
 tle: Mentoring the Next Generation of Interventional Neurologists  (Non-A
 AN Sponsored Event)\n\nDescription: - Introduction\; the importance of SV
 IN-AAN collaboration\; the role of AAN in engaging trainees in the endova
 scular pathway \n- SVIN and its main functions/projects\; endovascular me
 ntoring and how to get involved\; resident/fellow participation\n- Women 
 in Interventional Neurology \n· International outreach and Mission Thromb
 ectomy\n- How to get published and the S:VIN journal \n\n\nLearn More Abo
 ut This Event: https://www.aan.com/msa/Public/Events/Details/15968
DTEND;TZID=Eastern Standard Time:20230424T170000
DTSTAMP:20260424T070432Z
DTSTART;TZID=Eastern Standard Time:20230424T153000
LOCATION:https://www.aan.com/msa/Public/Events/GetEventURL/15968
SEQUENCE:0
SUMMARY:AAN: Mentoring the Next Generation of Interventional Neurologists 
  (Non-AAN Sponsored Event)
UID:ee78e12e-7cf5-4d1b-a0fe-8c408d6a3f07
END:VEVENT
END:VCALENDAR
