BEGIN:VCALENDAR
PRODID:-//github.com/rianjs/ical.net//NONSGML ical.net 4.0//EN
VERSION:2.0
BEGIN:VTIMEZONE
TZID:Eastern Standard Time
X-LIC-LOCATION:America/New_York
BEGIN:STANDARD
DTSTART:20241103T020000
RRULE:FREQ=YEARLY;BYDAY=1SU;BYMONTH=11
TZNAME:EST
TZOFFSETFROM:-0400
TZOFFSETTO:-0500
END:STANDARD
BEGIN:DAYLIGHT
DTSTART:20250309T020000
RRULE:FREQ=YEARLY;BYDAY=2SU;BYMONTH=3
TZNAME:EDT
TZOFFSETFROM:-0500
TZOFFSETTO:-0400
END:DAYLIGHT
END:VTIMEZONE
BEGIN:VEVENT
DESCRIPTION:2023 Annual Meeting by the American Academy of Neurology\n\nTi
 tle: Advancing Workforce Diversity Within Neurology Research (Research Hu
 b)\n\nAccess URL: https://www.aan.com/msa/Public/Events/GetEventURL/15974
 \n\nLearn More About This Event: https://www.aan.com/msa/Public/Events/De
 tails/15974
DTEND;TZID=Eastern Standard Time:20230422T154500
DTSTAMP:20260424T053423Z
DTSTART;TZID=Eastern Standard Time:20230422T150000
LOCATION:https://www.aan.com/msa/Public/Events/GetEventURL/15974
SEQUENCE:0
SUMMARY:AAN: Advancing Workforce Diversity Within Neurology Research (Rese
 arch Hub)
UID:8bb4ddff-45ba-498c-ae2c-504d517c9658
END:VEVENT
END:VCALENDAR
